BEGIN:VCALENDAR
VERSION:2.0
PRODID:-//hacksw/handcal//NONSGML v1.0//EN
BEGIN:VEVENT
SUMMARY:Tournoi par Equipe Benjamin (es)
UID:f02bc064-95ac-485d-afd4-88d261318ba7
DTSTART:20260410T220000Z
DTEND:20260411T220000Z
LOCATION:Localisation   
CATEGORIES:Sportif
STATUS:
DESCRIPTION:<p>Tournoi par equipe Benjamin et benjamine </p><p>Nous
 avons besoin de savoir quels sont les enfants qui seraient
 susceptibles d'etre interesses par cet evenement bien entendu c'est
 une competition par equipe donc il faut etre sur d'etre
 present. </p><p>Les categories de poids sont les
 suivantes. </p><p>Garcons: -34, -40, -47, -55, +55</p><p>Filles:
 -32, -38, -44, -52, +52</p><p>Le Coach sera Cedric du Torii Judo
 Club</p><p><br></p>
URL;VALUE=URI:https://www.muretjudoclub.fr/evenements/2026/04/11/tournoi-par-equipe-benjamin-es-2436187
END:VEVENT
END:VCALENDAR
